Workbook

Sheet INTRODUCCIÓN
A1: Cuenta Pública Estatal | H1: Subsistema de Egresos
A2: Formatos e Instructivos 2020
A3: Secretaría de Hacienda
A4: Subsecretaría de Egresos
A5: Dirección General de Presupuesto y Cuenta Pública
A6: Dirección de Contabilidad Gubernamental
A9: INTRODUCIÓN
A12: La Cuenta Pública Estatal y el Informe de Avance de Gestión Financiera, así como, la información correspondiente al tercer trimestre cuando proceda la renovación sexenal del Poder Ejecutivo, son los principales informes que el Ejecutivo rinde ante el H. Congreso del Estado. Para tal fin se ha elaborado el presente catálogo de formatos e instructivos, cuyas características se derivan de los requerimientos de información que demandan la integración de estos documentos para la información trimestral del ejercicio fiscal 2020.
A19: Los formatos que integran este catálogo, considera la información que se incluirán en los documentos antes mencionados, por lo que resulta de suma importancia que se requisiten de acuerdo a las instrucciones contenidas en cada uno de estos, ya que los entes u organismos públicos son los únicos que cuentan con dicha información.
B52: Relación de Esquemas Bursátiles y de Coberturas Financieras
A63: Para los formatos armonizados del CONAC, Ley de Disciplina Financiera (LDF), y Esquemas Bursátiles que no afecte saldos, presentarlos con la leyenda (NO APLICA, ó NO PRESENTA SALDOS A LA FECHA, ó NO PRESENTA MOVIMIENTOS A LA FECHA), de acuerdo al formato a presentar.
B87: ESQUEMAS BURSÁTILES
C91: - Relación de Esquemas Bursátiles y de Coberturas Financieras

Sheet MARCO JURÍDICO
A1: Cuenta Pública Estatal | H1: Subsistema de Egresos
A2: Formatos e Instructivos 2020
A3: Secretaría de Hacienda
A4: Subsecretaría de Egresos
A5: Dirección General de Presupuesto y Cuenta Pública
A6: Dirección de Contabilidad Gubernamental
A9: MARCO JURÍDICO
A12: CONSTITUCIÓN POLÍTICA DEL ESTADO DE CHIAPAS
B15: ARTÍCULO 59 | D15: Son facultades y obligaciones del Gobernador:
B16: FRACCIÓN XIX | D16: Presentar al Congreso del Estado y, en sus recesos, a la Comisión Permanente, la cuenta pública correspondiente al año anterior, a más tardar el día 30 de abril de cada año.
D19: El ejercicio en el que proceda la renovación sexenal del Poder Ejecutivo, la cuenta pública que contemplen los tres primeros trimestres del año, podrá ser presentada a más tardar el día 7 de diciembre de ese mismo año, encargándose la siguiente administración de entregar la correspondiente al último trimestre.
A24: LEY ORGÁNICA DE LA ADMINISTRACIÓN PÚBLICA DEL ESTADO DE CHIAPAS
B26: ARTÍCULO 30 | D26: A la Secretaría de Hacienda corresponde el despacho de los siguientes asuntos:
B27: FRACCIÓN XXXII | D27: Coordinar la integración de la Cuenta Pública.
A30: LEY DE FISCALIZACIÓN Y RENDICIÓN DE CUENTAS DEL ESTADO DE CHIAPAS
B32: ARTÍCULO 2 FRACCIÓN I | D32: Cuenta Pública.- La fiscalización de la gestión financiera de las Entidades Fiscalizadas para comprobar el cumplimiento de lo dispuesto en la Ley de Ingresos y el Presupuesto de Egresos, y demás disposiciones legales aplicables, en cuanto a los ingresos y gastos públicos, así como la deuda pública, incluyendo la revisión del manejo, la custodia y la aplicación de recursos públicos federales, estatales y municipales, así como de la demás información financiera, contable, patrimonial, presupuestaria y programática que las Entidades Fiscalizadas deban incluir en dicho documento, conforme a las disposiciones aplicables.
A40: CÓDIGO DE LA HACIENDA PÚBLICA PARA EL ESTADO DE CHIAPAS
B42: ARTÍCULO 477.- | D42: La Secretaría establecerá las normas en materia de Contabilidad Gubernamental que resulten aplicables y garanticen la armonización, así mismo la forma y términos en que los Organismos Públicos deben llevar sus registros contables, y en su caso, la forma de elaborar y enviar los informes, a fin de consolidar la Contabilidad del Gobierno del Estado.
B47: ARTÍCULO 480.- | D47: Los Organismos Públicos, enviarán a la Secretaría, en forma mensual, trimestral o con la periodicidad que lo determine, la información contable, presupuestaria, financiera y de otra índole que ésta requiera.
D51: Los Estados Financieros Contables y Presupuestarios que forman parte del Informe de Avance de Gestión Financiera y Cuenta Pública, deben ser firmados por el titular del Organismo Público y el Jefe de la Unidad de Apoyo Administrativo o su equivalente, pudiendo delegar la facultad de firma, para el caso de los informes mensuales y trimestrales, en cumplimiento a las disposiciones aplicables.
B58: ARTÍCULO 482.- | D58: La Secretaría requerirá a los Organismos Públicos, la información contable, presupuestaria, financiera, funcional y de otra índole que resulten necesarias, para consolidar y elaborar el Informe de Avance de Gestión Financiera y la Cuenta Pública de cada ejercicio fiscal, sometiéndola a la consideración del Ejecutivo del Estado, para su presentación al Congreso del Estado en términos de lo establecido en la fracción XIX del artículo 59 de la Constitución Política del Estado Libre y Soberano de Chiapas; y los artículos 12 y 13 de la Ley de Fiscalización y Rendición de Cuentas del Estado de Chiapas.
D66: Asimismo, los Organismos Públicos en sus cuentas públicas deben incluir la relación de los bienes que componen su patrimonio, conforme a los formatos electrónicos que apruebe el CONAC.
B70: ARTÍCULO 483.- | D70: La Secretaría establece la forma y plazos de presentación de la información que generen los Organismos Públicos, en apego a las disposiciones normativas y técnicas que emanen de la Ley General de Contabilidad Gubernamental y Ley de Disciplina Financiera de las Entidades Federativas y los Municipios, dicha información será consolidada mediante los mecanismos y términos emitidos, a fin de cumplir en tiempo y forma ante el Congreso del Estado, y otras instancias que la requieran, conforme a ordenamientos establecidos.
D77: Los Organismos Públicos son responsables del contenido de la información presentada.
D79: El incumplimiento en la entrega de la información será sancionado de acuerdo a lo establecido en este Código, Ley General de Contabilidad Gubernamental, la Ley de Disciplina Financiera de las Entidades Federativa y los Municipios, la Ley de Fiscalización y Rendición de Cuentas del Estado de Chiapas, Ley de Responsabilidades Administrativas para el Estado de Chiapas y demás leyes aplicables, responsabilizándose directamente a los Organismos Públicos, de las observaciones y sanciones que determine el Órgano de Fiscalización Superior del Congreso del Estado.

Sheet CONTENIDO
A1: Cuenta Pública Estatal | H1: Subsistema de Egresos
A2: Formatos e Instructivos 2020
A3: Secretaría de Hacienda
A4: Subsecretaría de Egresos
A5: Dirección General de Presupuesto y Cuenta Pública
A6: Dirección de Contabilidad Gubernamental
A8: CONTENIDO
A9: SUBSISTEMA DE EGRESOS
A10: INTRODUCCIÓN
A11: MARCO JURÍDICO
A12: INSTRUCCIONES GENERALES
A13: LINEAMIENTOS DE PRESENTACIÓN
A14: PORTADA
... A17: INFORMACIÓN QUE EXIGE EL ART. 46 FRAC I , ART. 53 FRACC I DE LA LGCG y CAPITULO VII de los Estados e Informes Contables, Presupuestarios, Programáticos y de los Indicadores de Postura Fiscal ( MANUAL DE CONTABILIDAD GUBERNAMENTAL)
A19: 1 | B19: Estado de Situación Financiera (por Rubros)
A20: 2 | B20: Estado de Situación Financiera (por Cuentas)
A21: 3 | B21: Estado de Actividades (Rubros)
A22: 4 | B22: Estado de Variación en la Hacienda Pública (Rubros)
A23: 5 | B23: Estado de Cambios en la Situación Financiera (Rubros)
A24: 6 | B24: Estado de Flujos de Efectivo (Rubros)
A25: 7 | B25: Estado Analítico del Activo (Rubros)
A26: 8 | B26: Estado Analítico de la Deuda y Otros Pasivos (Rubros)
A27: 9 | B27: Informe sobre Pasivos Contingentes
A28: 10 | B28: Notas a los Estados Financieros
A30: INFORMACIÓN QUE EXIGE EL ART. 46 FRAC. II , ART. 47 Y 53 FRAC II Y IV DE LA LGCG y CAPITULO VII de los Estados e Informes Contables, Presupuestarios, Programáticos y de los Indicadores de Postura Fiscal (MANUAL DE CONTABILIDAD GUBERNAMENTAL)
A32: 11 | B32: Estado Analítico de Ingresos
A33: 12 | B33: Endeudamiento Neto
A34: 13 | B34: Intereses de la Deuda
A35: 14 | B35: Indicadores de la Postura Fiscal
A37: INFORMACION QUE EXIGE EL ART. 46 FRACC IV DE LA LGCG
A39: 15 | B39: Relación de Esquemas Bursátiles y de Coberturas Financieras
A41: INFORMACION QUE EXIGE EL ART. 69 DE LA LGCG
A43: 16 | B43: Relación de Cuentas Bancarias Productivas Específicas (únicamente cuentas de recursos federales del ejercicio 2020)
A45: ACUERDO POR EL QUE SE DETERMINA LA NORMA PARA ESTABLECER LA ESTRUCTURA DEL FORMATO DE LA RELACIÓN DE BIENES QUE COMPONEN EL PATRIMONIO DEL ENTE PÚBLICO (CONAC)
A47: 17 | B47: Relación de Bienes Muebles que Componen su Patrimonio
A48: 18 | B48: Relación de Bienes Inmuebles que Componen su Patrimonio
A49: 19 | B49: Relación de Bienes Intangibles que Componen su Patrimonio
A51: FORMATOS DE LA LEY DE DISCIPLINA FINANCIERA (LDF Arts. 4,6,7. 25, 31, 33 y 58) CRITERIOS LEY DE DISCIPLINA FINANCIERA DE LAS ENTIDADES FEDERATIVAS Y LOS MUNICPIOS (DOF 27/09/18)
A54: 1 | B54: Estado de Situación Financiera Detallado-LDF1
A55: 2 | B55: Informe Analítico de la Deuda Pública y Otros Pasivos-LDF2
...

Sheet INSTRUCCIONES GRALES.
A1: Cuenta Pública Estatal | H1: Subsistema de Egresos
A2: Formatos e Instructivos 2020
A3: Secretaría de Hacienda
A4: Subsecretaría de Egresos
A5: Dirección General de Presupuesto y Cuenta Pública
A6: Dirección de Contabilidad Gubernamental
A9: INSTRUCCIONES GENERALES
B13: ENCABEZADO | D13: Contendrá el nombre del formato, así como, el nombre completo del Ente u Organismo Público sin abreviaturas.
B16: PERIODO | D16: Contendrá del 1 de enero a la fecha del trimestre o del cierre del ejercicio que se informa.
B18: CIFRAS | D18: La información deberá enviarse a centavos en todos los formatos.
B21: FIRMAS | D21: Para el caso de la presentación de la información del 1er. y 3er. trimestre, los formatos (CONAC, LDF , Anexo LDF, Esquemas Bursátiles, y de Análisis) podrán ser firmados por el Jefe de Unidad de Apoyo Administrativo ó su equivalente y por el Jefe de Recursos Financieros.
D25: En cuanto a los formatos armonizados CONAC, Ley de Disciplina Financiera, y Esquemas Bursátiles en el caso del 2° trimestre, y la Cuenta Pública Anual, deberán ser firmados por el Titular del Ente Público u Organismo Público y Jefe de la Unidad de Apoyo Administrativo ó su equivalente. En el caso de los formatos de análisis, deberán ser firmados por el Jefe de la Unidad de Apoyo Administrativo ó su equivalente y por el Jefe del Área de Recursos Financieros.
D32: Cuando la impresión de un reporte sea más de una hoja, las firmas se plasmarán en la última hoja con rúbricas en todas las anteriores.
D35: En el caso de las Notas a los Estados Financieros, Informe sobre Pasivos Contingentes, y/o justificaciones de saldos, deberán presentarse con rúbricas por el Titular del Ente Público u Organismo Público y Jefe de la Unidad de Apoyo Administrativo ó su equivalente en cada una de las hojas utilizadas.
B40: TAMAÑO DE LOS EJEMPLARES | D40: Atendiendo a la estructura que para cada uno se señala, la impresión de los formatos financieros se presentarán en tamaño carta.
B45: FECHA DE ENTREGA | D45: La Información Financiera de Cuenta Pública Estatal, deberá ser entregada mediante oficio en el Departamento de Consolidación y Cuenta Pública de la Dirección de Contabilidad Gubernamental, dentro de los primeros dieciocho días posteriores al trimestre que corresponda, el Informe de Avance de Gestión Financiera se deberá enviar a más tardar dentro de los primeros diez días del mes de julio del ejercicio en curso. Cuando se trate del cierre del ejercicio inmediato anterior, será entregado dentro de los primeros veinticuatro días del mes de enero del año en curso.
D52: En cuanto al fundamento legal en el oficio de entrega, apegarse a lo dispuesto en los artículos 480 del Código de la Hacienda Pública para el Estado de Chiapas; 49, 50, 54 y 55 de la Normatividad Contable 2020; 46 y 47 de la Ley General de Contabilidad Gubernamental.
B57: CANTIDAD DE EJEMPLARES Y PRESENTACIÓN | D57: La información para: el primer trimestre, deberá enviarse respaldada únicamente en CD-R.
D60: La información para: el Segundo Trimestre, Cuenta Pública Tercer Trimestre (Cierre de Sexenio); así como la Cuenta Pública Anual, deberá remitirse impresa en original en un folder tamaño carta (sin perforaciones). Además, deberá enviarse respaldada en CD-R.
D64: La información impresa y en CD-R a presentar, deberá apegarse a los lineamientos de presentación establecidos.
B67: OBSERVACIONES | D67: Para los formatos armonizados del CONAC, LDF, Anexo LDF, Esquemas Bursátiles, que no afecte movimientos o saldos, se deberá presentar con la leyenda, No Aplica, ó No Presenta Saldos a la Fecha, ó No Presenta Movimientos, de acuerdo a tipo de reporte a presentar.
A68: Para los formatos armonizados del CONAC, Ley de Disciplina Financiera (LDF), y Esquemas Bursátiles que no afecte saldos, presentarlos con la leyenda (NO APLICA, ó NO PRESENTA SALDOS A LA FECHA, ó NO PRESENTA MOVIMIENTOS A LA FECHA), de acuerdo al formato a presentar.
D71: En el caso de los formatos de análisis que no afecte movimientos o saldos, no se presentará, por los que deberá enviar únicamente los que presenten información.
D74: Respecto al respaldo en CD-R, deberá contener los formatos que emite el SIAHE y/o los elaborados en excel y word, debidamente escaneados y guardados en archivos PDF. Así como los solicitados en formato Excel y Word, de acuerdo a los lineamientos de presentación.

Sheet LINEAMIENTOS
A1: Cuenta Pública Estatal | K1: Subsistema de Egresos
A2: Formatos e Instructivos 2020
A3: Secretaría de Hacienda
A4: Subsecretaría de Egresos
A5: Dirección General de Presupuesto y Cuenta Pública
A6: Dirección de Contabilidad Gubernamental
A7: Lineamientos de Presentación de la Cuenta Pública Financiera 2020
A8: Lineamientos de Presentación de la Cuenta Pública Financiera 2018
A10: PRESENTAR EN UN FOLDER, LA SIGUIENTE INFORMACIÓN DE FORMA IMPRESA: (SIN ENGARGOLAR, NI PERFORACIONES)
A11: INFORMACIÓN IMPRESA
B12: I.- Portada
B13: II.- Estado de Situación Financiera (Por Rubros)
B14: III.- Estado de Situación Financiera (Por Cuentas)
B15: IV.Estado de Actividades (Rubros)
B16: V.- Estado de Variación en la Hacienda Pública (Rubros)
B17: VI.- Estado de Cambios en la Situación Financiera (Rubros)
B18: VII.- Estado de Flujos de Efectivo (Rubros)
B19: VIII.- Estado Analítico del Activo (Rubros)
B20: XIX.- Estado Analítico de la Deuda y Otros Pasivos (Rubros)
B21: X.- Estado Analítico de Ingresos
B22: XI.- Estado de Situación Financiera Detallado - LDF1
B23: XII.- Estado Analítico de Ingresos Detallado - LDF5
A25: PRESENTAR CD:
A26: ü | B26: Etiquetar el CD con los siguientes datos: nombre del ente u organismo público, tipo de información (cuenta pública financiera), trimestre y ejercicio fiscal.
A27: ü | B27: El CD contendrá 4 carpetas (FORMATOS CONAC, FORMATOS LDF, ANEXO LDF, y FORMATOS COMPLEMENTARIOS).
B29: ESTADOS Y REPORTES CONAC
C30: ü | D30: Presentar archivos escaneados (de forma individual) y en formato PDF ( 1 al 19 ), la información debe estar en forma vertical, cerciorarse que estén legibles, y con las firmas y antefirmas correspondientes.
C31: ü | D31: Presentar archivos en word ( 21 ) y excel ( 20, 22 y 23 )
B33: Nota: Los nombres y la numeración de los archivos a presentar en el CD, que contendrá cada carpeta, son los que a continuación se describen:
B36: NOMBRE DEL ARCHIVO | H36: TIPO DE FORMATO: PDF, EXCEL, WORD
B38: 1) | C38: - Estado de Situación Financiera (Por Rubros)
B40: 2) | C40: - Estado de Situación Financiera (Por Cuentas)
B42: 3) | C42: - Estado de Actividades (Por Rubros)
B44: 4) | C44: - Estado de Variación en la Hacienda Pública (Por Rubros)
B46: 5) | C46: - Estado de Cambios en la Situación Financiera (Por Rubros)
B48: 6) | C48: - Estado de Flujos de Efectivo (Por Rubros)
B50: 7) | C50: - Estado Analítico del Activo (Por Rubros)
B52: 8) | C52: - Estado Analítico de la Deuda y Otros Pasivos (Por Rubros)
B54: 9) | C54: - Informe Sobre Pasivos Contingentes
B56: 10) | C56: - Notas a los Estados Financieros
...

Sheet PORTADA
B12: 2.1.1.2.0.380 | C12: SECRETARIA EJECUTIVA DEL SISTEMA ANTICORRUPCION DEL ESTADO DE CHIAPAS
B20: CUENTA PÚBLICA ESTATAL
B27: INFORMACIÓN FINANCIERA
B30: CUARTO TRIMESTRE
B33: EJERCICIO FISCAL
B34: 2020
A64: Para los formatos armonizados del CONAC, Ley de Disciplina Financiera (LDF), y Esquemas Bursátiles que no afecte saldos, presentarlos con la leyenda (NO APLICA, ó NO PRESENTA SALDOS A LA FECHA, ó NO PRESENTA MOVIMIENTOS A LA FECHA), de acuerdo al formato a presentar.
B87: ESQUEMAS BURSÁTILES
C91: - Relación de Esquemas Bursátiles y de Coberturas Financieras

Sheet INF. FINANCIERA
B23: INFORMACIÓN FINANCIERA
A64: Para los formatos armonizados del CONAC, Ley de Disciplina Financiera (LDF), y Esquemas Bursátiles que no afecte saldos, presentarlos con la leyenda (NO APLICA, ó NO PRESENTA SALDOS A LA FECHA, ó NO PRESENTA MOVIMIENTOS A LA FECHA), de acuerdo al formato a presentar.
B87: ESQUEMAS BURSÁTILES
C91: - Relación de Esquemas Bursátiles y de Coberturas Financieras

Sheet BALANZA ACUMULADA
A1: GOBIERNO CONSTITUCIONAL DEL ESTADO DE CHIAPAS
A2: SECRETARIA DE HACIENDA
A3: SUBSECRETARÍA DE EGRESOS
A4: SIAHE - CONTABILIDAD
A5: SISTEMA CONTABLE 2021
A6: BALANZA DE COMPROBACION ACUMULADA
K7: Fecha: | L7: 44314
A8: SECRETARIA EJECUTIVA DEL SISTEMA ANTICORRUPCION DEL ESTADO DE CHIAPAS
A10: SECRETARIA EJECUTIVA DEL SISTEMA ANTICORRUPCION DEL ESTADO DE CHIAPAS PERIODO DEL 1o. DE ENERO AL 31 DE MARZO DEL 2021
A12: DEL 1 DE ENERO AL 31 DE MARZO DE 2021
A14: NUMERO | B14: CUENTA | G14: SALDOS INICIALES | I14: MOVIMIENTOS | K14: SALDOS FINALES
G15: DEL: 1o. DE ENERO DE 2021 | I15: DEL MES DE DICIEMBRE | K15: AL 31 MARZO DE 2020
B16: NOMBRE | G16: DEUDOR | H16: ACREEDOR | I16: DEBE | J16: HABER | K16: DEUDOR | L16: ACREEDOR
A18: 1111 | B18: Efectivo | K18: =SUM(G18+I18-J18) -> 0 | N18: Nota: Únicamente se podrá modificar las fórmulas de los saldos finales de las cuentas 8110 a la 8270. Así como, la 3210 en el caso de fusión, escisión, extinción de organismos públicos ó por movimientos extraordinarios.
A19: 1112 | B19: Bancos/Tesorería | G19: 369894.95 | I19: 7100294.3 | J19: 4666450 | K19: =SUM(G19+I19-J19) -> 2803739.2
A20: 1113 | B20: Bancos/Dependencias y Otros | G20: 458424.98 | I20: 6407890.7 | J20: 6562923.8 | K20: =SUM(G20+I20-J20) -> 303391.87
A21: 1114 | B21: Inversiones Temporales (Hasta 3 meses) | K21: =SUM(G21+I21-J21) -> 0
A22: 1115 | B22: Fondos con Afectación Específica | K22: =SUM(G22+I22-J22) -> 0
A23: 1116 | B23: Depósitos de Fondos de Terceros en Garantía y/o Administración | K23: =SUM(G23+I23-J23) -> 0
A24: 1119 | B24: Otros Efectivos y Equivalentes | K24: =SUM(G24+I24-J24) -> 0
A25: 1121 | B25: Inversiones Financieras de Corto Plazo | K25: =SUM(G25+I25-J25) -> 0
A26: 1122 | B26: Cuentas por Cobrar a Corto Plazo | K26: =SUM(G26+I26-J26) -> 0
A27: 1123 | B27: Deudores Diversos por Cobrar a Corto Plazo | K27: =SUM(G27+I27-J27) -> 0
A28: 1124 | B28: Ingresos por Recuperar a Corto Plazo | K28: =SUM(G28+I28-J28) -> 0
A29: 1125 | B29: Deudores por Anticipos de la Tesorería a Corto Plazo | K29: =SUM(G29+I29-J29) -> 0
A30: 1126 | B30: Préstamos Otorgados a Corto Plazo | K30: =SUM(G30+I30-J30) -> 0
A31: 1129 | B31: Otros Derechos a Recibir Efectivo o Equivalentes a Corto Plazo | K31: =SUM(G31+I31-J31) -> 0
A32: 1131 | B32: Anticipo a Proveedores por Adquisición de Bienes y Prestación de Servicios a Corto Plazo | K32: =SUM(G32+I32-J32) -> 0
A33: 1132 | B33: Anticipo a Proveedores por Adquisición de Bienes Inmuebles y Muebles a Corto Plazo | K33: =SUM(G33+I33-J33) -> 0
A34: 1133 | B34: Anticipo a Proveedores por Adquisición de Bienes Intangibles a Corto Plazo | K34: =SUM(G34+I34-J34) -> 0
A35: 1134 | B35: Anticipo a Contratistas por Obras Públicas a Corto Plazo | K35: =SUM(G35+I35-J35) -> 0
A36: 1139 | B36: Otros Derechos a Recibir Bienes o Servicios a Corto Plazo | K36: =SUM(G36+I36-J36) -> 0
A37: 1141 | B37: Inventario de Mercancías para Venta | K37: =SUM(G37+I37-J37) -> 0
A38: 1142 | B38: Inventario de Mercancías Terminadas | K38: =SUM(G38+I38-J38) -> 0
A39: 1143 | B39: Inventario de Mercancías en Proceso de Elaboración | K39: =SUM(G39+I39-J39) -> 0
A40: 1144 | B40: Inventario de Materias Primas, Materiales y Suministros para Producción | K40: =SUM(G40+I40-J40) -> 0
A41: 1145 | B41: Bienes en Tránsito | K41: =SUM(G41+I41-J41) -> 0
A42: 1151 | B42: Almacén de Materiales y Suministros de Consumo | K42: =SUM(G42+I42-J42) -> 0
A43: 1161 | B43: Estimaciones para Cuentas Incobrables por Derechos a Recibir Efectivo o Equivalentes | L43: =SUM(H43+J43-I43) -> 0
A44: 1162 | B44: Estimación por Deterioro de Inventarios | L44: =SUM(H44+J44-I44) -> 0
...

Sheet Instructivo Balanza Acumulada
A1: Cuenta Pública Estatal | H1: Subsistema de Egresos
A2: Formatos e Instructivos 2020
A3: Secretaría de Hacienda
A4: Subsecretaría de Egresos
A5: Dirección General de Presupuesto y Cuenta Pública
A6: Dirección de Contabilidad Gubernamental
A8: INSTRUCTIVO DEL FORMATO
A10: BALANZA ACUMULADA, ESTADOS FINANCIEROS Y OTROS REPORTES
B15: DESCRIPCIÓN: | D15: Para generar los Estados Financieros establecidos por el CONAC, únicamente deberá capturar en la pestaña BALANZA AC., los datos (cifras contables) de la balanza acumulada del periodo a presentar, generado por el SIAHE ó sistema contable que manejen.
D19: Es importante no hacer modificaciones en cada una de las pestañas de estados financieros en el presente catálogo de formatos, ya que estos se encuentran vinculados a la pestaña BALANZA AC. Se implementa este procedimiento, con la finalidad de hacer más práctico y ágil la emisión de los reportes de Estados Financieros. Únicamente se podrán hacer ciertas modificaciones específicadas en cada formato.
B24: NOTA:
D26: Los datos que únicamente se podrán modificar en las pestañas, son los siguientes:
D28: a) Nombre del Titular del Ente u Organismo Público, así como el cargo que ocupa.
D29: b) Nombre del Jefe de Unidad de Apoyo Administrativo ó su equivalente, así como el cargo que ocupa.
D31: c) Se podrá modificar la pestaña ECSF y el CUADRO PARA FLUJO DE EFECTIVO, con las indicaciones plasmadas.
D34: La pestaña Hoja de Trabajo, se podrá modificar las fórmulas en las columnas de balance, especificamente en la cuenta 3210, dependiendo del resultado obtenido al periodo que se informa. Así también, en las columnas de saldos específicamente en las cuentas 8110 a la 8270 (cuentas presupuestarias) para elaborar los ajustes de orden.
D39: Al realizar el llenado de la hoja de trabajo, deberá ocultar las cuentas (filas), que no afecte movimientos ni saldos, así como, podrá insertar cuentas que afecte saldos y que no aparezcan en el reporte, ya que éste es solo es un ejemplo.
D44: En el caso de los reportes de Ley de Disciplina Financiera (LDF), Anexo de la Ley de Disciplina Financiera, y Esquemas Bursátiles, se deberán elaborar de acuerdo a los instructivos correspondientes.

Sheet FORMATOS CONAC
B23: FORMATOS - CONAC

Sheet 1.ESF (Rubros)
A1: GOBIERNO CONSTITUCIONAL DEL ESTADO DE CHIAPAS
A2: ='2.ESF (Cuentas)'!A2:I2 -> SECRETARIA EJECUTIVA DEL SISTEMA ANTICORRUPCION DEL ESTADO DE CHIAPAS
A4: SISTEMA CONTABLE 2020
A5: ESTADO DE SITUACIÓN FINANCIERA
A6: AL 31 DE DICIEMBRE DE 2020
I7: Página 1 de 1
G8: Fecha: | I8: ='2.ESF (Cuentas)'!I8 -> 44314
A9: ACTIVO | B9: 2020 | D9: 2019 | F9: PASIVO | G9: 2020 | I9: 2019
A11: Activo Circulante | F11: Pasivo Circulante
A12: Efectivo y Equivalentes | B12: =SUM('2.ESF (Cuentas)'!B12) -> 3107131 | D12: =SUM('2.ESF (Cuentas)'!D12) -> 828319.93 | F12: Cuentas por Pagar a Corto Plazo | G12: =SUM('2.ESF (Cuentas)'!G12) -> 360402.69 | I12: =SUM('2.ESF (Cuentas)'!I12) -> 692783.48
A13: Derechos a Recibir Efectivo o Equivalentes | B13: =SUM('2.ESF (Cuentas)'!B20) -> 0 | D13: =SUM('2.ESF (Cuentas)'!D20) -> 0 | F13: Documentos por Pagar a Corto Plazo | G13: =SUM('2.ESF (Cuentas)'!G20) -> 0 | I13: =SUM('2.ESF (Cuentas)'!I20) -> 0
A14: Derechos a Recibir Bienes o Servicios | B14: =SUM('2.ESF (Cuentas)'!B28) -> 0 | D14: =SUM('2.ESF (Cuentas)'!D28) -> 0 | F14: Porción a Corto Plazo de la Deuda Pública a Largo Plazo | G14: =SUM('2.ESF (Cuentas)'!G22) -> 0 | I14: =SUM('2.ESF (Cuentas)'!I22) -> 0
A15: Inventarios | B15: =SUM('2.ESF (Cuentas)'!B34) -> 0 | D15: =SUM('2.ESF (Cuentas)'!D34) -> 0 | F15: Pasivos Diferidos a Corto Plazo | G15: =SUM('2.ESF (Cuentas)'!G25) -> 0 | I15: =SUM('2.ESF (Cuentas)'!I25) -> 0
A16: Almacenes | B16: =SUM('2.ESF (Cuentas)'!B38) -> 0 | D16: =SUM('2.ESF (Cuentas)'!D38) -> 0 | F16: Fondos y Bienes de Terceros en Garantía y/o Administración a Corto Plazo | G16: =SUM('2.ESF (Cuentas)'!G28) -> 0 | I16: =SUM('2.ESF (Cuentas)'!I28) -> 0
A17: Estimación por Pérdida o Deterioro de Activos Circulantes | B17: =SUM('2.ESF (Cuentas)'!B40) -> 0 | D17: =SUM('2.ESF (Cuentas)'!D40) -> 0 | F17: Provisiones a Corto Plazo | G17: =SUM('2.ESF (Cuentas)'!G35) -> 0 | I17: =SUM('2.ESF (Cuentas)'!I35) -> 0
A18: Otros Activos Circulantes | B18: =SUM('2.ESF (Cuentas)'!B42) -> 0 | D18: =SUM('2.ESF (Cuentas)'!D42) -> 0 | F18: Otros Pasivos a Corto Plazo | G18: =SUM('2.ESF (Cuentas)'!G38) -> 0 | I18: =SUM('2.ESF (Cuentas)'!I38) -> 0
A20: Total de Activos Circulantes | B20: =SUM(B12:B18) -> 3107131 | D20: =SUM(D12:D18) -> 828319.93 | F20: Total de Pasivos Circulantes | G20: =SUM(G12:G18) -> 360402.69 | I20: =SUM(I12:I18) -> 692783.48
A23: Activo No Circulante | F23: Pasivo No Circulante
A24: Inversiones Financieras a Largo Plazo | B24: =SUM('2.ESF (Cuentas)'!B50) -> 0 | D24: =SUM('2.ESF (Cuentas)'!D50) -> 0 | F24: Cuentas por Pagar a Largo Plazo | G24: =SUM('2.ESF (Cuentas)'!G48) -> 0 | I24: =SUM('2.ESF (Cuentas)'!I48) -> 0
A25: Derechos a Recibir Efectivo o Equivalentes a Largo Plazo | B25: =SUM('2.ESF (Cuentas)'!B55) -> 0 | D25: =SUM('2.ESF (Cuentas)'!D55) -> 0 | F25: Documentos por Pagar a Largo Plazo | G25: =SUM('2.ESF (Cuentas)'!G51) -> 0 | I25: =SUM('2.ESF (Cuentas)'!I51) -> 0
A26: Bienes Inmuebles, Infraestructura y Construcciones en Proceso | B26: =SUM('2.ESF (Cuentas)'!B61) -> 0 | D26: =SUM('2.ESF (Cuentas)'!D61) -> 0 | F26: Deuda Pública a Largo Plazo | G26: =SUM('2.ESF (Cuentas)'!G53) -> 0 | I26: =SUM('2.ESF (Cuentas)'!I53) -> 0
A27: Bienes Muebles | B27: =SUM('2.ESF (Cuentas)'!B68) -> 0 | D27: =SUM('2.ESF (Cuentas)'!D68) -> 0 | F27: Pasivos Diferidos a Largo Plazo | G27: =SUM('2.ESF (Cuentas)'!G56) -> 0 | I27: =SUM('2.ESF (Cuentas)'!I56) -> 0
A28: Activos Intangibles | B28: =SUM('2.ESF (Cuentas)'!B77) -> 0 | D28: =SUM('2.ESF (Cuentas)'!D77) -> 0 | F28: Fondos y Bienes de Terceros en Garantía y/o Administración a Largo Plazo | G28: =SUM('2.ESF (Cuentas)'!G59) -> 0 | I28: =SUM('2.ESF (Cuentas)'!I59) -> 0
A29: Depreciación, Deterioro y Amortización Acumulada de Bienes | B29: =SUM('2.ESF (Cuentas)'!B83) -> 0 | D29: =SUM('2.ESF (Cuentas)'!D83) -> 0 | F29: Provisiones a Largo Plazo | G29: =SUM('2.ESF (Cuentas)'!G66) -> 0 | I29: =SUM('2.ESF (Cuentas)'!I66) -> 0
A30: Activos Diferidos | B30: =SUM('2.ESF (Cuentas)'!B88) -> 0 | D30: =SUM('2.ESF (Cuentas)'!D88) -> 0
A31: Estimación por Pérdida o Deterioro de Activos no Circulantes | B31: =SUM('2.ESF (Cuentas)'!B95) -> 0 | D31: =SUM('2.ESF (Cuentas)'!D95) -> 0 | F31: Total de Pasivos No Circulantes | G31: =SUM(G24:G29) -> 0 | I31: =SUM(I24:I29) -> 0
A32: Otros Activos no Circulantes | B32: =SUM('2.ESF (Cuentas)'!B99) -> 0 | D32: =SUM('2.ESF (Cuentas)'!D99) -> 0
B33: 0 | D33: 0
A35: Total de Activos No Circulantes | B35: =SUM(B24:B32) -> 0 | D35: =SUM(D24:D32) -> 0 | F35: Total del Pasivo | G35: =SUM(G20+G31) -> 360402.69 | I35: =SUM(I20+I31) -> 692783.48
F38: HACIENDA PÚBLICA/PATRIMONIO
F40: Hacienda Pública/Patrimonio Contribuido
F42: Aportaciones | G42: =SUM('2.ESF (Cuentas)'!G80) -> 0 | I42: =SUM('2.ESF (Cuentas)'!I80) -> 0
F43: Donaciones de Capital | G43: =SUM('2.ESF (Cuentas)'!G82) -> 0 | I43: =SUM('2.ESF (Cuentas)'!I82) -> 0
F44: Actualización de la Hacienda Pública/Patrimonio | G44: =SUM('2.ESF (Cuentas)'!G84) -> 0 | I44: =SUM('2.ESF (Cuentas)'!I84) -> 0
F47: Hacienda Pública/Patrimonio Generado
F49: Resultados del Ejercicio (Ahorro/Desahorro) | G49: =SUM('2.ESF (Cuentas)'!G89) -> 2611191.9 | I49: =SUM('2.ESF (Cuentas)'!I89) -> 135536.45
F50: Resultados de Ejercicios Anteriores | G50: =SUM('2.ESF (Cuentas)'!G91) -> 135536.45 | I50: =SUM('2.ESF (Cuentas)'!I91) -> 0
F51: Revalúos | G51: =SUM('2.ESF (Cuentas)'!G93) -> 0 | I51: =SUM('2.ESF (Cuentas)'!I93) -> 0
F52: Reservas | G52: =SUM('2.ESF (Cuentas)'!G97) -> 0 | I52: =SUM('2.ESF (Cuentas)'!I97) -> 0
F53: Rectificaciones de Resultados de Ejercicios Anteriores | G53: =SUM('2.ESF (Cuentas)'!G100) -> 0 | I53: =SUM('2.ESF (Cuentas)'!I100) -> 0
...

Sheet 2.ESF (Cuentas)
A1: GOBIERNO CONSTITUCIONAL DEL ESTADO DE CHIAPAS
A2: ='BALANZA ACUMULADA'!A8:L8 -> SECRETARIA EJECUTIVA DEL SISTEMA ANTICORRUPCION DEL ESTADO DE CHIAPAS
A4: SISTEMA CONTABLE 2020
A5: ESTADO DE SITUACIÓN FINANCIERA
A6: ='1.ESF (Rubros)'!A6:I6 -> AL 31 DE DICIEMBRE DE 2020
I7: Página 1 de 1
G8: Fecha: | I8: ='BALANZA ACUMULADA'!L7 -> 44314
A9: ACTIVO | B9: 2020 | D9: 2019 | F9: PASIVO | G9: 2020 | I9: 2019
A11: Activo Circulante | F11: Pasivo Circulante
A12: Efectivo y Equivalentes | B12: =SUM(B13:B19) -> 3107131 | D12: =SUM(D13:D19) -> 828319.93 | F12: Cuentas por Pagar a Corto Plazo | G12: =SUM(G13:G19) -> 360402.69 | I12: =SUM(I13:I19) -> 692783.48
A13: Efectivo | B13: =SUM('BALANZA ACUMULADA'!K18) -> 0 | D13: =SUM('BALANZA ACUMULADA'!G18) -> 0 | F13: Servicios Personales por Pagar a Corto Plazo | G13: =SUM('BALANZA ACUMULADA'!L91) -> 177152.83 | I13: =SUM('BALANZA ACUMULADA'!H91) -> 126087.36
A14: Bancos/Tesorería | B14: =SUM('BALANZA ACUMULADA'!K19) -> 2803739.2 | D14: =SUM('BALANZA ACUMULADA'!G19) -> 369894.95 | F14: Proveedores por Pagar a Corto Plazo | G14: =SUM('BALANZA ACUMULADA'!L92) -> 14738.38 | I14: =SUM('BALANZA ACUMULADA'!H92) -> 182916.23
A15: Bancos/Dependencias y Otros | B15: =SUM('BALANZA ACUMULADA'!K20) -> 303391.87 | D15: =SUM('BALANZA ACUMULADA'!G20) -> 458424.98 | F15: Contratistas por Obras Públicas por Pagar a Corto Plazo | G15: =SUM('BALANZA ACUMULADA'!L93) -> 0 | I15: =SUM('BALANZA ACUMULADA'!H93) -> 0
A16: Inversiones Temporales (hasta 3 meses) | B16: =SUM('BALANZA ACUMULADA'!K21) -> 0 | D16: =SUM('BALANZA ACUMULADA'!G21) -> 0 | F16: Participaciones y Aportaciones por Pagar a Corto Plazo | G16: =SUM('BALANZA ACUMULADA'!L94) -> 0 | I16: =SUM('BALANZA ACUMULADA'!H94) -> 0
A17: Fondos con Afectación Específica | B17: =SUM('BALANZA ACUMULADA'!K22) -> 0 | D17: =SUM('BALANZA ACUMULADA'!G22) -> 0 | F17: Transferencias Otorgadas por Pagar a Corto Plazo | G17: =SUM('BALANZA ACUMULADA'!L95) -> 0 | I17: =SUM('BALANZA ACUMULADA'!H95) -> 0
A18: Depósitos de Fondos de Terceros en Garantía y/o Administración | B18: =SUM('BALANZA ACUMULADA'!K23) -> 0 | D18: =SUM('BALANZA ACUMULADA'!G23) -> 0 | F18: Retenciones y Contribuciones por Pagar a Corto Plazo | G18: =SUM('BALANZA ACUMULADA'!L97) -> 167996.06 | I18: =SUM('BALANZA ACUMULADA'!H97) -> 383725.34
A19: Otros Efectivos y Equivalentes | B19: =SUM('BALANZA ACUMULADA'!K24) -> 0 | D19: =SUM('BALANZA ACUMULADA'!G24) -> 0 | F19: Otras Cuentas por Pagar a Corto Plazo | G19: =SUM('BALANZA ACUMULADA'!L99) -> 515.42 | I19: =SUM('BALANZA ACUMULADA'!H99) -> 54.55
A20: Derechos a Recibir Efectivo o Equivalentes | B20: =SUM(B21:B27) -> 0 | D20: =SUM(D21:D27) -> 0 | F20: Documentos por Pagar a Corto Plazo | G20: =SUM(G21) -> 0 | I20: =SUM(I21) -> 0
A21: Inversiones Financieras de Corto Plazo | B21: =SUM('BALANZA ACUMULADA'!K25) -> 0 | D21: =SUM('BALANZA ACUMULADA'!G25) -> 0 | F21: Otros Documentos por Pagar a Corto Plazo | G21: =SUM('BALANZA ACUMULADA'!L102) -> 0 | I21: =SUM('BALANZA ACUMULADA'!H102) -> 0
A22: Cuentas por Cobrar a Corto Plazo | B22: =SUM('BALANZA ACUMULADA'!K26) -> 0 | D22: =SUM('BALANZA ACUMULADA'!G26) -> 0 | F22: Porción a Corto Plazo de la Deuda Pública a Largo Plazo | G22: =SUM(G23:G24) -> 0 | I22: =SUM(I23:I24) -> 0
A23: Deudores Diversos por Cobrar a Corto Plazo | B23: =SUM('BALANZA ACUMULADA'!K27) -> 0 | D23: =SUM('BALANZA ACUMULADA'!G27) -> 0 | F23: Porción a Corto Plazo de la Deuda Pública Interna | G23: =SUM('BALANZA ACUMULADA'!L103) -> 0 | I23: =SUM('BALANZA ACUMULADA'!H103) -> 0
A24: Ingresos por Recuperar a Corto Plazo | B24: =SUM('BALANZA ACUMULADA'!K28) -> 0 | D24: =SUM('BALANZA ACUMULADA'!G28) -> 0 | F24: Porción a Corto Plazo de Arrendamiento Financiero | G24: =SUM('BALANZA ACUMULADA'!L104) -> 0 | I24: =SUM('BALANZA ACUMULADA'!H104) -> 0
A25: Deudores por Anticipos de la Tesorería a Corto Plazo | B25: =SUM('BALANZA ACUMULADA'!K29) -> 0 | D25: =SUM('BALANZA ACUMULADA'!G29) -> 0 | F25: Pasivos Diferidos a Corto Plazo | G25: =SUM(G26:G27) -> 0 | I25: =SUM(I26:I27) -> 0
A26: Préstamos Otorgados a Corto Plazo | B26: =SUM('BALANZA ACUMULADA'!K30) -> 0 | D26: =SUM('BALANZA ACUMULADA'!G30) -> 0 | F26: Ingresos Cobrados por Adelantado a Corto Plazo | G26: =SUM('BALANZA ACUMULADA'!L105) -> 0 | I26: =SUM('BALANZA ACUMULADA'!H105) -> 0
A27: Otros Derechos a Recibir Efectivo o Equivalentes a Corto Plazo | B27: =SUM('BALANZA ACUMULADA'!K31) -> 0 | D27: =SUM('BALANZA ACUMULADA'!G31) -> 0 | F27: Otros Pasivos Diferidos a Corto Plazo | G27: =SUM('BALANZA ACUMULADA'!L107) -> 0 | I27: =SUM('BALANZA ACUMULADA'!H107) -> 0
A28: Derechos a Recibir Bienes o Servicios | B28: =SUM(B29:B33) -> 0 | D28: =SUM(D29:D33) -> 0 | F28: Fondos y Bienes de Terceros en Garantía y/o Administración a Corto Plazo | G28: =SUM(G29:G34) -> 0 | I28: =SUM(I29:I34) -> 0
A29: Anticipo a Proveedores por Adquisición de Bienes y Prestación de Serv. a Corto Plazo | B29: =SUM('BALANZA ACUMULADA'!K32) -> 0 | D29: =SUM('BALANZA ACUMULADA'!G32) -> 0 | F29: Fondos en Garantía a Corto Plazo | G29: =SUM('BALANZA ACUMULADA'!L108) -> 0 | I29: =SUM('BALANZA ACUMULADA'!H108) -> 0
A30: Anticipo a Proveedores por Adquisición de Bienes Inmuebles y Muebles a Corto Plazo | B30: =SUM('BALANZA ACUMULADA'!K33) -> 0 | D30: =SUM('BALANZA ACUMULADA'!G33) -> 0 | F30: Fondos en Administración a Corto Plazo | G30: =SUM('BALANZA ACUMULADA'!L109) -> 0 | I30: =SUM('BALANZA ACUMULADA'!H109) -> 0
A31: Anticipo a Proveedores por Adquisición de Bienes Intangibles a Corto Plazo | B31: =SUM('BALANZA ACUMULADA'!K34) -> 0 | D31: =SUM('BALANZA ACUMULADA'!G34) -> 0 | F31: Fondos Contingentes a Corto Plazo | G31: =SUM('BALANZA ACUMULADA'!L110) -> 0 | I31: =SUM('BALANZA ACUMULADA'!H110) -> 0
A32: Anticipo a Contratistas por Obras Públicas a Corto Plazo | B32: =SUM('BALANZA ACUMULADA'!K35) -> 0 | D32: =SUM('BALANZA ACUMULADA'!G35) -> 0 | F32: Fondos de Fideicomisos, Mandatos y Contratos Análogos a Corto Plazo | G32: =SUM('BALANZA ACUMULADA'!L111) -> 0 | I32: =SUM('BALANZA ACUMULADA'!H111) -> 0
A33: Otros Derechos a Recibir Bienes o Servicios a Corto Plazo | B33: =SUM('BALANZA ACUMULADA'!K36) -> 0 | D33: =SUM('BALANZA ACUMULADA'!G36) -> 0 | F33: Otros Fondos de Terceros en Garantía y/o Administración a Corto Plazo | G33: =SUM('BALANZA ACUMULADA'!L112) -> 0 | I33: =SUM('BALANZA ACUMULADA'!H112) -> 0
A34: Inventarios | B34: =SUM(B35:B37) -> 0 | D34: =SUM(D35:D37) -> 0 | F34: Valores y Bienes en Garantía a Corto Plazo | G34: =SUM('BALANZA ACUMULADA'!L113) -> 0 | I34: =SUM('BALANZA ACUMULADA'!H113) -> 0
A35: Inventario de Mercancías para Venta | B35: =SUM('BALANZA ACUMULADA'!K37) -> 0 | D35: =SUM('BALANZA ACUMULADA'!G37) -> 0 | F35: Provisiones a Corto Plazo | G35: =SUM(G36:G37) -> 0 | I35: =SUM(I36:I37) -> 0
A36: Inventario de Mercancias en Proceso de Elaboracion | B36: =SUM('BALANZA ACUMULADA'!K39) -> 0 | D36: =SUM('BALANZA ACUMULADA'!G39) -> 0 | F36: Provisión para Demandas y Juicios a Corto Plazo | G36: =SUM('BALANZA ACUMULADA'!L114) -> 0 | I36: =SUM('BALANZA ACUMULADA'!H114) -> 0
A37: Bienes en Tránsito | B37: =SUM('BALANZA ACUMULADA'!K41) -> 0 | D37: =SUM('BALANZA ACUMULADA'!G41) -> 0 | F37: Provisión para Contingencias a Corto Plazo | G37: =SUM('BALANZA ACUMULADA'!L115) -> 0 | I37: =SUM('BALANZA ACUMULADA'!H115) -> 0
A38: Almacenes | B38: =SUM(B39) -> 0 | D38: =SUM(D39) -> 0 | F38: Otros Pasivos a Corto Plazo | G38: =SUM(G39:G41) -> 0 | I38: =SUM(I39:I41) -> 0
A39: Almacen de Materiales y Suministros de Consumo | B39: =SUM('BALANZA ACUMULADA'!K42) -> 0 | D39: =SUM('BALANZA ACUMULADA'!G42) -> 0 | F39: Ingresos por Clasificar | G39: =SUM('BALANZA ACUMULADA'!L117) -> 0 | I39: =SUM('BALANZA ACUMULADA'!H117) -> 0
A40: Estimación por Pérdida o Deterioro de Activos Circulantes | B40: =SUM(B41) -> 0 | D40: =SUM(D41) -> 0 | F40: Recaudación por Participar | G40: =SUM('BALANZA ACUMULADA'!L118) -> 0 | I40: =SUM('BALANZA ACUMULADA'!H118) -> 0
A41: Estimaciones para cuentas incobrables por Derechos a Recibir Efectivo o Equivalentes | B41: =-'BALANZA ACUMULADA'!L43 -> 0 | D41: =-'BALANZA ACUMULADA'!H43 -> 0 | F41: Otros Pasivos Circulantes | G41: =SUM('BALANZA ACUMULADA'!L119) -> 0 | I41: =SUM('BALANZA ACUMULADA'!H119) -> 0
A42: Otros Activos Circulantes | B42: =SUM(B43:B44) -> 0 | D42: =SUM(D43:D44) -> 0
...

Sheet 3.EA
A1: GOBIERNO CONSTITUCIONAL DEL ESTADO DE CHIAPAS
A2: ='1.ESF (Rubros)'!A2:I2 -> SECRETARIA EJECUTIVA DEL SISTEMA ANTICORRUPCION DEL ESTADO DE CHIAPAS
A4: SISTEMA CONTABLE 2020
A5: ESTADO DE ACTIVIDADES
A6: ='BALANZA ACUMULADA'!A12:F12 -> DEL 1 DE ENERO AL 31 DE MARZO DE 2021
J7: Página 1 de 1
H8: Fecha: | J8: ='1.ESF (Rubros)'!I8 -> 44314
H9: 2020 | J9: 2019
B11: INGRESOS Y OTROS BENEFICIOS
B13: Ingresos de Gestión | L13: Nota: Capturar de forma manual las cifras de la columna 2019, el cual debe tomar los datos de la cuenta pública del cierre 2019.
C14: Impuestos | H14: =SUM('BALANZA ACUMULADA'!L153:L159) -> 0
C15: Cuotas y Aportaciones de Seguridad Social | H15: =SUM('BALANZA ACUMULADA'!L160) -> 0
C16: Contribuciones de Mejoras | H16: =SUM('BALANZA ACUMULADA'!L161) -> 0
C17: Derechos | H17: =SUM('BALANZA ACUMULADA'!L162:L165) -> 0
C18: Productos | H18: =SUM('BALANZA ACUMULADA'!L166:L167) -> 0
C19: Aprovechamientos | H19: =SUM('BALANZA ACUMULADA'!L168:L175) -> 0
C20: Ingresos por Venta de Bienes y Prestación de Servicios | H20: =SUM('BALANZA ACUMULADA'!L176:L180) -> 0
B22: Participaciones, Aportaciones, Convenios, Incentivos Derivados de la Colaboración Fiscal, Fondos Distintos de Aportaciones, Transferencias, Asignaciones, Subsidios y Subvenciones, y Pensiones y Jubilaciones
C23: Participaciones, Aportaciones, Convenios, Incentivos Derivados de la Colaboración Fiscal y Fondos Distintos
C24: de Aportaciones
C25: Transferencias, Asignaciones, Subsidios y Subvenciones, y Pensiones y Jubilaciones | H25: =SUM('BALANZA ACUMULADA'!L186:L188)+'BALANZA ACUMULADA'!L150 -> 6343930.1 | J25: 7343321.8
B27: Otros Ingresos y Beneficios
C28: Ingresos Financieros | H28: =SUM('BALANZA ACUMULADA'!L189:L190) -> 0
C29: Incremento por Variación de Inventarios | H29: =SUM('BALANZA ACUMULADA'!L191:L195) -> 0
C30: Disminución del Exceso de Estimaciones por Pérdida o Deterioro u Obsolescencia
C31: Disminución del Exceso de Provisiones
C32: Otros Ingresos y Beneficios Varios | H32: =SUM('BALANZA ACUMULADA'!L198:L200) -> 0
B34: Total de Ingresos y Otros Beneficios | H34: =SUM(H14:H32) -> 6343930.1 | J34: =SUM(J14:J32) -> 7343321.8
B36: GASTOS Y OTRAS PÉRDIDAS
B38: Gastos de Funcionamiento
C39: Servicios Personales | H39: 1740885.8 | J39: 2007953.4
C40: Materiales y Suministros | H40: 182700.1 | J40: 427649.87
C41: Servicios Generales | H41: 1809152.3 | J41: 4725404.9
B42: Transferencias, Asignaciones, Subsidios y Otras Ayudas
C43: Transferencias Internas y Asignaciones al Sector Público | H43: =SUM('BALANZA ACUMULADA'!K225:K226) -> 0
C44: Transferencias al Resto del Sector Público | H44: =SUM('BALANZA ACUMULADA'!K227:K228) -> 0
C45: Subsidios y Subvenciones | J45: 46781.16
C46: Ayudas Sociales | H46: =SUM('BALANZA ACUMULADA'!K230:K233) -> 0
C47: Pensiones y Jubilaciones | H47: =SUM('BALANZA ACUMULADA'!K234:K236) -> 0
C48: Transferencias a Fideicomisos, Mandatos y Contratos Análogos | H48: =SUM('BALANZA ACUMULADA'!K237) -> 0
...

Sheet 4.EVHP-P
A1: GOBIERNO CONSTITUCIONAL DEL ESTADO DE CHIAPAS
A2: ='1.ESF (Rubros)'!A2:I2 -> SECRETARIA EJECUTIVA DEL SISTEMA ANTICORRUPCION DEL ESTADO DE CHIAPAS
A4: SISTEMA CONTABLE 2020
A5: ESTADO DE VARIACIÓN EN LA HACIENDA PÚBLICA
A6: ='3.EA'!A6 -> DEL 1 DE ENERO AL 31 DE MARZO DE 2021
G7: Página 1 de 1
F8: Fecha: | G8: ='1.ESF (Rubros)'!I8 -> 44314
A9: CONCEPTO | B9: HACIENDA PÚBLICA/ PATRIMONIO CONTRIBUIDO | D9: HACIENDA PÚBLICA/ PATRIMONIO GENERADO DE EJERCICIOS ANTERIORES | E9: HACIENDA PÚBLICA/ PATRIMONIO GENERADO DEL EJERCICIO | F9: EXCESO O INSUFICIENCIA EN LA ACTUALIZACIÓN DE LA HACIENDA PÚBLICA / PATRIMONIO | G9: TOTAL
A12: Hacienda Pública / Patrimonio Contribuido Neto de 2019 | B12: =SUM(B13:C15) -> 0 | D12: =SUM(D13:D15) -> 0 | E12: =SUM(E13:E15) -> 0 | F12: =SUM(F13:F15) -> 0 | G12: =SUM(G13:G15) -> 0
A13: Aportaciones | B13: =SUM('1.ESF (Rubros)'!I42) -> 0 | G13: =SUM(B13:F13) -> 0
A14: Donaciones de Capital | B14: =SUM('1.ESF (Rubros)'!I43) -> 0 | G14: =SUM(B14:F14) -> 0
A15: Actualización de la Hacienda Pública/Patrimonio | B15: =SUM('1.ESF (Rubros)'!I44) -> 0 | G15: =SUM(B15:F15) -> 0
A17: Hacienda Pública / Patrimonio Generado Neto de 2019 | D17: =SUM(D18:D22) -> 0 | E17: =SUM(E18:E22) -> 135536.45 | F17: =SUM(F18:F22) -> 0 | G17: =SUM(G18:G22) -> 135536.45
A18: Resultados del Ejercicio (Ahorro/Desahorro) | E18: =SUM('1.ESF (Rubros)'!I49) -> 135536.45 | G18: =SUM(B18:F18) -> 135536.45
A19: Resultados de Ejercicios Anteriores | D19: =SUM('1.ESF (Rubros)'!I50) -> 0 | G19: =SUM(B19:F19) -> 0
A20: Revalúos | D20: =SUM('1.ESF (Rubros)'!I51) -> 0 | G20: =SUM(B20:F20) -> 0
A21: Reservas | D21: =SUM('1.ESF (Rubros)'!I52) -> 0 | G21: =SUM(B21:F21) -> 0
A22: Rectificaciones de Resultados de Ejercicios Anteriores | D22: =SUM('1.ESF (Rubros)'!I53) -> 0 | G22: =SUM(B22:F22) -> 0
A24: Exceso o Insuficiencia en la Actualización de la Hacienda Pública / Patrimonio Neto de 2019 | F24: =SUM(F25:F26) -> 0 | G24: =SUM(G25:G26) -> 0
A25: Resultado por Posición Monetaria | F25: =SUM('1.ESF (Rubros)'!I57) -> 0 | G25: =SUM(B25:F25) -> 0
A26: Resultado por Tenencia de Activos no Monetarios | F26: =SUM('1.ESF (Rubros)'!I58) -> 0 | G26: =SUM(B26:F26) -> 0
A28: Hacienda Pública / Patrimonio Neto Final de 2019 | B28: =SUM(B12+B17+B24) -> 0 | D28: =SUM(D12+D17+D24) -> 0 | E28: =SUM(E12+E17+E24) -> 135536.45 | F28: =SUM(F12+F17+F24) -> 0 | G28: =SUM(G12+G17+G24) -> 135536.45
A30: Cambios en la Hacienda Pública / Patrimonio Contribuido Neto de 2020 | B30: =SUM(B31:C33) -> 0 | G30: =SUM(G31:G33) -> 0
A31: Aportaciones | B31: =SUM('1.ESF (Rubros)'!G42-'1.ESF (Rubros)'!I42) -> 0 | G31: =SUM(B31:F31) -> 0
A32: Donaciones de Capital | B32: =SUM('1.ESF (Rubros)'!G43-'1.ESF (Rubros)'!I43) -> 0 | G32: =SUM(B32:F32) -> 0
A33: Actualización de la Hacienda Pública/Patrimonio | B33: =SUM('1.ESF (Rubros)'!G44-'1.ESF (Rubros)'!I44) -> 0 | G33: =SUM(B33:F33) -> 0
A35: Variaciones de la Hacienda Pública / Patrimonio Generado Neto de 2020 | D35: =SUM(D36:D39) -> 135536.45 | E35: =SUM(E36:E40) -> 2475655.4 | F35: =SUM(F36:F39) -> 0 | G35: =SUM(G36:G40) -> 2611191.9
A36: Resultados del Ejercicio (Ahorro/Desahorro) | E36: =SUM('1.ESF (Rubros)'!G49) -> 2611191.9 | G36: =SUM(E36:F36) -> 2611191.9
A37: Resultados de Ejercicios Anteriores | D37: =SUM('1.ESF (Rubros)'!G50-'1.ESF (Rubros)'!I50) -> 135536.45 | E37: =-'1.ESF (Rubros)'!I49 -> -135536.45 | G37: =SUM(D37:F37) -> 0
A38: Revalúos | E38: =SUM('1.ESF (Rubros)'!G51-'1.ESF (Rubros)'!I51) -> 0 | G38: =SUM(E38:F38) -> 0
A39: Reservas | E39: =SUM('1.ESF (Rubros)'!G52-'1.ESF (Rubros)'!I52) -> 0 | G39: =SUM(E39:F39) -> 0
A40: Rectificaciones de Resultados de Ejercicios Anteriores | E40: =SUM('1.ESF (Rubros)'!G53-'1.ESF (Rubros)'!I53) -> 0 | G40: =SUM(E40:F40) -> 0
A42: Cambios en el Exceso o Insuficiencia en la Actualización de la Hacienda Pública / Patrimonio Neto de 2020 | F42: =SUM(F43:F44) -> 0 | G42: =SUM(G43:G44) -> 0
A43: Resultado por Posición Monetaria | F43: =SUM('1.ESF (Rubros)'!G57-'1.ESF (Rubros)'!I57) -> 0 | G43: =SUM(E43:F43) -> 0
A44: Resultado por Tenencia de Activos no Monetarios | F44: =SUM('1.ESF (Rubros)'!G58-'1.ESF (Rubros)'!I58) -> 0 | G44: =SUM(D44:F44) -> 0
A46: Hacienda Pública / Patrimonio Neto Final de 2020 | B46: =SUM(B28+B30+B35+B42) -> 0 | D46: =SUM(D28+D30+D35+D42) -> 135536.45 | E46: =SUM(E28+E30+E35+E42) -> 2611191.9 | F46: =SUM(F28+F30+F35+F42) -> 0 | G46: =SUM(G28+G30+G35+G42) -> 2746728.3
A57: NOMBRE | D57: NOMBRE
A58: PUESTO | D58: PUESTO
A62: “Bajo protesta de decir verdad declaramos que los Estados Financieros y sus notas, son razonablemente correctos y son responsabilidad del emisor”.

Sheet 5.ECSF
A1: GOBIERNO CONSTITUCIONAL DEL ESTADO DE CHIAPAS
A2: ='1.ESF (Rubros)'!A2:I2 -> SECRETARIA EJECUTIVA DEL SISTEMA ANTICORRUPCION DEL ESTADO DE CHIAPAS
A4: SISTEMA CONTABLE 2020
A5: ESTADO DE CAMBIOS EN LA SITUACIÓN FINANCIERA
A6: ='3.EA'!A6 -> DEL 1 DE ENERO AL 31 DE MARZO DE 2021
K7: Página 1 de 1
I8: Fecha: | K8: ='1.ESF (Rubros)'!I8 -> 44314
I9: ORIGEN | K9: APLICACIÓN
B12: ACTIVO | F12: 2020 | G12: 2019
N13: Nota: De las columnas de Origen y Aplicación, eliminar únicamente las cifras presentadas en negativo.
B14: Activo Circulante
B15: 0
B16: Efectivo y Equivalentes | F16: =SUM('1.ESF (Rubros)'!B12) -> 3107131 | G16: =SUM('1.ESF (Rubros)'!D12) -> 828319.93 | K16: =SUM(F16-G16) -> 2278811.1
B17: Derechos a Recibir Efectivo o Equivalentes | F17: =SUM('1.ESF (Rubros)'!B13) -> 0 | G17: =SUM('1.ESF (Rubros)'!D13) -> 0 | I17: =SUM(G17-F17) -> 0 | K17: =SUM(F17-G17) -> 0
B18: Derechos a Recibir Bienes o Servicios | F18: =SUM('1.ESF (Rubros)'!B14) -> 0 | G18: =SUM('1.ESF (Rubros)'!D14) -> 0 | I18: =SUM(G18-F18) -> 0 | K18: =SUM(F18-G18) -> 0
B19: Inventarios | F19: =SUM('1.ESF (Rubros)'!B15) -> 0 | G19: =SUM('1.ESF (Rubros)'!D15) -> 0 | I19: =SUM(G19-F19) -> 0 | K19: =SUM(F19-G19) -> 0
B20: Almacenes | F20: =SUM('1.ESF (Rubros)'!B16) -> 0 | G20: =SUM('1.ESF (Rubros)'!D16) -> 0 | I20: =SUM(G20-F20) -> 0 | K20: =SUM(F20-G20) -> 0
B21: Estimación por Pérdida o Deterioro de Activos Circulantes | F21: =SUM('1.ESF (Rubros)'!B17) -> 0 | G21: =SUM('1.ESF (Rubros)'!D17) -> 0 | I21: =SUM(G21-F21) -> 0 | K21: =SUM(F21-G21) -> 0
B22: Otros Activos Circulantes | F22: =SUM('1.ESF (Rubros)'!B18) -> 0 | G22: =SUM('1.ESF (Rubros)'!D18) -> 0 | I22: =SUM(G22-F22) -> 0 | K22: =SUM(F22-G22) -> 0
B23: 0
B24: Activo No Circulante
B25: 0
B26: Inversiones Financieras a Largo Plazo | F26: =SUM('1.ESF (Rubros)'!B24) -> 0 | G26: =SUM('1.ESF (Rubros)'!D24) -> 0 | I26: =SUM(G26-F26) -> 0 | K26: =SUM(F26-G26) -> 0
B27: Derechos a Recibir Efectivo o Equivalentes a Largo Plazo | F27: =SUM('1.ESF (Rubros)'!B25) -> 0 | G27: =SUM('1.ESF (Rubros)'!D25) -> 0 | I27: =SUM(G27-F27) -> 0 | K27: =SUM(F27-G27) -> 0
B28: Bienes Inmuebles, Infraestructura y Construcciones en Proceso | F28: =SUM('1.ESF (Rubros)'!B26) -> 0 | G28: =SUM('1.ESF (Rubros)'!D26) -> 0 | I28: =SUM(G28-F28) -> 0 | K28: =SUM(F28-G28) -> 0
B29: Bienes Muebles | F29: =SUM('1.ESF (Rubros)'!B27) -> 0 | G29: =SUM('1.ESF (Rubros)'!D27) -> 0 | I29: =SUM(G29-F29) -> 0 | K29: =SUM(F29-G29) -> 0
B30: Activos Intangibles | F30: =SUM('1.ESF (Rubros)'!B28) -> 0 | G30: =SUM('1.ESF (Rubros)'!D28) -> 0 | I30: =SUM(G30-F30) -> 0 | K30: =SUM(F30-G30) -> 0
B31: Depreciación, Deterioro y Amortización Acumulada de Bienes | F31: =SUM('1.ESF (Rubros)'!B29) -> 0 | G31: =SUM('1.ESF (Rubros)'!D29) -> 0 | I31: =SUM(G31-F31) -> 0 | K31: =SUM(F31-G31) -> 0
B32: Activos Diferidos | F32: =SUM('1.ESF (Rubros)'!B30) -> 0 | G32: =SUM('1.ESF (Rubros)'!D30) -> 0 | I32: =SUM(G32-F32) -> 0 | K32: =SUM(F32-G32) -> 0
B33: Estimaciones por Pérdida de Cuentas Incobrables de Deudores Diversos por Cobrar a Largo Plazo | F33: =SUM('1.ESF (Rubros)'!B31) -> 0 | G33: =SUM('1.ESF (Rubros)'!D31) -> 0 | I33: =SUM(G33-F33) -> 0 | K33: =SUM(F33-G33) -> 0
B35: Otros Activos no Circulantes | F35: =SUM('1.ESF (Rubros)'!B32) -> 0 | G35: =SUM('1.ESF (Rubros)'!D32) -> 0 | I35: =SUM(G35-F35) -> 0 | K35: =SUM(F35-G35) -> 0
B36: 0
B37: PASIVO
B38: 0 | F38: 2019 | G38: 2020
B39: Pasivo Circulante
B40: 0
B41: Cuentas por Pagar a Corto Plazo | F41: =SUM('1.ESF (Rubros)'!I12) -> 692783.48 | G41: =SUM('1.ESF (Rubros)'!G12) -> 360402.69 | K41: =SUM(F41-G41) -> 332380.79
B42: Documentos por Pagar a Corto Plazo | F42: =SUM('1.ESF (Rubros)'!I13) -> 0 | G42: =SUM('1.ESF (Rubros)'!G13) -> 0 | I42: =SUM(G42-F42) -> 0 | K42: =SUM(F42-G42) -> 0
B43: Porción a Corto Plazo de la Deuda Pública a Largo Plazo | F43: =SUM('1.ESF (Rubros)'!I14) -> 0 | G43: =SUM('1.ESF (Rubros)'!G14) -> 0 | I43: =SUM(G43-F43) -> 0 | K43: =SUM(F43-G43) -> 0
B44: Pasivos Diferidos a Corto Plazo | F44: =SUM('1.ESF (Rubros)'!I15) -> 0 | G44: =SUM('1.ESF (Rubros)'!G15) -> 0 | I44: =SUM(G44-F44) -> 0 | K44: =SUM(F44-G44) -> 0
...

Sheet 6.EFE
A1: GOBIERNO CONSTITUCIONAL DEL ESTADO DE CHIAPAS
A2: ='1.ESF (Rubros)'!A2:I2 -> SECRETARIA EJECUTIVA DEL SISTEMA ANTICORRUPCION DEL ESTADO DE CHIAPAS
A4: SISTEMA CONTABLE 2020
A5: ESTADO DE FLUJOS DE EFECTIVO
A6: ='3.EA'!A6 -> DEL 1 DE ENERO AL 31 DE MARZO DE 2021
J7: Página 1 de 1
H8: Fecha: | J8: ='1.ESF (Rubros)'!I8 -> 44314
A9: CONCEPTO | H9: 2020 | J9: 2019
A12: Flujos de Efectivo de las Actividades de Operación
B13: Origen | H13: =SUM(H14:H24) -> 6343930.1 | J13: 7343325.8 | L13: Nota: Capturar de forma manual las cifras de la columna 2019, el cual debe tomar los datos de la cuenta pública del cierre 2019.
C14: Impuestos | H14: =SUM('3.EA'!H14) -> 0
C15: Cuotas y Aportaciones de Seguridad Social | H15: =SUM('3.EA'!H15) -> 0
C16: Contribuciones de Mejoras | H16: =SUM('3.EA'!H16) -> 0
C17: Derechos | H17: =SUM('3.EA'!H17) -> 0
C18: Productos | H18: =SUM('3.EA'!H18) -> 0
C19: Aprovechamientos | H19: =SUM('3.EA'!H19) -> 0
C20: Ingresos por Venta de Bienes y Prestación de Servicios | H20: =SUM('3.EA'!H20) -> 0
C21: Participaciones, Aportaciones, Convenios, Incentivos Derivados de la Colaboración Fiscal y Fondos Distintos | H21: =SUM('3.EA'!H23) -> 0
C22: de Aportaciones
C23: Transferencias, Asignaciones, Subsidios y Subvenciones, y Pensiones y Jubilaciones | H23: =SUM('3.EA'!H25) -> 6343930.1
C24: Otros Orígenes de Operación | H24: =SUM('3.EA'!H28:H32) -> 0
B25: Aplicación | H25: =SUM(H26:H41) -> 3732738.2 | J25: =SUM(J26:J41) -> 0
C26: Servicios Personales | H26: =SUM('3.EA'!H39) -> 1740885.8
C27: Materiales y Suministros | H27: =SUM('3.EA'!H40) -> 182700.1
C28: Servicios Generales | H28: =SUM('3.EA'!H41) -> 1809152.3
C29: Transferencias Internas y Asignaciones al Sector Público | H29: =SUM('3.EA'!H43) -> 0
C30: Transferencias al Resto del Sector Público | H30: =SUM('3.EA'!H44) -> 0
C31: Subsidios y Subvenciones | H31: =SUM('3.EA'!H45) -> 0
C32: Ayudas Sociales | H32: =SUM('3.EA'!H46) -> 0
C33: Pensiones y Jubilaciones | H33: =SUM('3.EA'!H47) -> 0
C34: Transferencias a Fideicomisos, Mandatos y Contratos Análogos | H34: =SUM('3.EA'!H48) -> 0
C35: Transferencias a la Seguridad Social | H35: =SUM('3.EA'!H49) -> 0
C36: Donativos | H36: =SUM('3.EA'!H50) -> 0
C37: Transferencias al Exterior | H37: =SUM('3.EA'!H51) -> 0
C38: Participaciones | H38: =SUM('3.EA'!H53) -> 0
C39: Aportaciones | H39: =SUM('3.EA'!H54) -> 0
C40: Convenios | H40: =SUM('3.EA'!H55) -> 0
C41: Otras Aplicaciones de Operación | H41: =SUM('3.EA'!H63:H70) -> 0
A42: Flujos Netos de Efectivo por Actividades de Operación | H42: =SUM(H13-H25) -> 2611191.9 | J42: =SUM(J13-J25) -> 7343325.8
A44: Flujos de Efectivo de las Actividades de Inversión
...

Sheet CUADRO PARA FLUJO EFE
A1: GOBIERNO CONSTITUCIONAL DEL ESTADO DE CHIAPAS
A2: ='BALANZA ACUMULADA'!A8:L8 -> SECRETARIA EJECUTIVA DEL SISTEMA ANTICORRUPCION DEL ESTADO DE CHIAPAS
A3: SISTEMA CONTABLE 2020
A4: CUADRO PARA ELABORAR ESTADO DE FLUJOS DE EFECTIVO
A5: ='1.ESF (Rubros)'!A6:I6 -> AL 31 DE DICIEMBRE DE 2020
A6: NOTA: DE LAS COLUMNAS ORIGEN Y APLICACIÓN, ÚNICAMENTE ELIMINAR LOS IMPORTES EN NEGATIVO DE CADA CUENTA.
A8: CONCEPTO | B8: 2020 | D8: 2019 | E8: Variación | F8: Origen | G8: Aplicación | I8: CONCEPTO | J8: 2020 | L8: 2019 | M8: Variación | N8: Origen | O8: Aplicación
A10: ACTIVO | I10: PASIVO
A11: Activo Circulante | I11: Pasivo Circulante
A12: Efectivo y Equivalentes | B12: =SUM(B13:B19) -> 3107131 | D12: =SUM(D13:D19) -> 828319.93 | I12: Cuentas por Pagar a Corto Plazo | J12: =SUM(J13:J19) -> 360402.69 | L12: =SUM(L13:L19) -> 692783.48 | M12: =SUM(M13:M19) -> -332380.79 | N12: =SUM(N13:N19) -> -332380.79
A13: Efectivo | B13: =SUM('BALANZA ACUMULADA'!K18) -> 0 | D13: =SUM('BALANZA ACUMULADA'!G18) -> 0 | E13: =SUM(B13-D13) -> 0 | I13: Servicios Personales por Pagar a Corto Plazo | J13: =SUM('BALANZA ACUMULADA'!L91) -> 177152.83 | L13: =SUM('BALANZA ACUMULADA'!H91) -> 126087.36 | M13: =SUM(J13-L13) -> 51065.47 | N13: =SUM(M13) -> 51065.47
A14: Bancos/Tesorería | B14: =SUM('BALANZA ACUMULADA'!K19) -> 2803739.2 | D14: =SUM('BALANZA ACUMULADA'!G19) -> 369894.95 | E14: =SUM(B14-D14) -> 2433844.2 | I14: Proveedores por Pagar a Corto Plazo | J14: =SUM('BALANZA ACUMULADA'!L92) -> 14738.38 | L14: =SUM('BALANZA ACUMULADA'!H92) -> 182916.23 | M14: =SUM(J14-L14) -> -168177.85 | N14: =SUM(M14) -> -168177.85
A15: Bancos/Dependencias y Otros | B15: =SUM('BALANZA ACUMULADA'!K20) -> 303391.87 | D15: =SUM('BALANZA ACUMULADA'!G20) -> 458424.98 | E15: =SUM(B15-D15) -> -155033.11 | I15: Contratistas por Obras Públicas por Pagar a Corto Plazo | J15: =SUM('BALANZA ACUMULADA'!L93) -> 0 | L15: =SUM('BALANZA ACUMULADA'!H93) -> 0 | M15: =SUM(J15-L15) -> 0 | N15: =SUM(M15) -> 0 | O15: =-M15 -> 0
A16: Inversiones Temporales (hasta 3 meses) | B16: =SUM('BALANZA ACUMULADA'!K21) -> 0 | D16: =SUM('BALANZA ACUMULADA'!G21) -> 0 | E16: =SUM(B16-D16) -> 0 | I16: Participaciones y Aportaciones por Pagar a Corto Plazo | J16: =SUM('BALANZA ACUMULADA'!L94) -> 0 | L16: =SUM('BALANZA ACUMULADA'!H94) -> 0 | M16: =SUM(J16-L16) -> 0 | N16: =SUM(M16) -> 0 | O16: =-M16 -> 0
A17: Fondos con Afectación Específica | B17: =SUM('BALANZA ACUMULADA'!K22) -> 0 | D17: =SUM('BALANZA ACUMULADA'!G22) -> 0 | E17: =SUM(B17-D17) -> 0 | I17: Transferencias Otorgadas por Pagar a Corto Plazo | J17: =SUM('BALANZA ACUMULADA'!L95) -> 0 | L17: =SUM('BALANZA ACUMULADA'!H95) -> 0 | M17: =SUM(J17-L17) -> 0 | N17: =SUM(M17) -> 0 | O17: =-M17 -> 0
A18: Depósitos de Fondos de Terceros en Garantía y/o Administración | B18: =SUM('BALANZA ACUMULADA'!K23) -> 0 | D18: =SUM('BALANZA ACUMULADA'!G23) -> 0 | E18: =SUM(B18-D18) -> 0 | I18: Retenciones y Contribuciones por Pagar a Corto Plazo | J18: =SUM('BALANZA ACUMULADA'!L97) -> 167996.06 | L18: =SUM('BALANZA ACUMULADA'!H97) -> 383725.34 | M18: =SUM(J18-L18) -> -215729.28 | N18: =SUM(M18) -> -215729.28
A19: Otros Efectivos y Equivalentes | B19: =SUM('BALANZA ACUMULADA'!K24) -> 0 | D19: =SUM('BALANZA ACUMULADA'!G24) -> 0 | E19: =SUM(B19-D19) -> 0 | I19: Otras Cuentas por Pagar a Corto Plazo | J19: =SUM('BALANZA ACUMULADA'!L99) -> 515.42 | L19: =SUM('BALANZA ACUMULADA'!H99) -> 54.55 | M19: =SUM(J19-L19) -> 460.87 | N19: =SUM(M19) -> 460.87
A20: Derechos a Recibir Efectivo o Equivalentes | B20: =SUM(B21:B27) -> 0 | D20: =SUM(D21:D27) -> 0 | E20: =SUM(E21:E27) -> 0 | F20: =SUM(F21:F27) -> 0 | G20: =SUM(G21:G27) -> 0
A21: Inversiones Financieras a Corto Plazo | B21: =SUM('BALANZA ACUMULADA'!K25) -> 0 | D21: =SUM('BALANZA ACUMULADA'!G25) -> 0 | E21: =SUM(B21-D21) -> 0 | F21: =-E21 -> 0 | G21: =E21 -> 0 | I21: Documentos por Pagar a Corto Plazo | J21: =SUM(J22) -> 0 | L21: =SUM(L22) -> 0 | M21: =SUM(M22) -> 0 | N21: =SUM(N22) -> 0 | O21: =SUM(O22) -> 0
A22: Cuentas por Cobrar a Corto Plazo | B22: =SUM('BALANZA ACUMULADA'!K26) -> 0 | D22: =SUM('BALANZA ACUMULADA'!G26) -> 0 | E22: =SUM(B22-D22) -> 0 | F22: =-E22 -> 0 | G22: =E22 -> 0 | I22: Otros Documentos por Pagar a Corto Plazo | J22: =SUM('BALANZA ACUMULADA'!L102) -> 0 | L22: =SUM('BALANZA ACUMULADA'!H102) -> 0 | M22: =SUM(J22-L22) -> 0 | N22: =SUM(M22) -> 0 | O22: =-M22 -> 0
A23: Deudores Diversos por Cobrar a Corto Plazo | B23: =SUM('BALANZA ACUMULADA'!K27) -> 0 | D23: =SUM('BALANZA ACUMULADA'!G27) -> 0 | E23: =SUM(B23-D23) -> 0 | F23: =-E23 -> 0 | G23: =E23 -> 0
A24: Ingresos por Recuperar a Corto Plazo | B24: =SUM('BALANZA ACUMULADA'!K28) -> 0 | D24: =SUM('BALANZA ACUMULADA'!G28) -> 0 | E24: =SUM(B24-D24) -> 0 | F24: =-E24 -> 0 | G24: =E24 -> 0 | I24: Porción a Corto Plazo de la Deuda Pública a Largo Plazo | J24: =SUM(J25:J26) -> 0 | L24: =SUM(L25:L26) -> 0 | M24: =SUM(M25:M26) -> 0 | N24: =SUM(N25:N26) -> 0 | O24: =SUM(O25:O26) -> 0
A25: Deudores por Anticipos de la Tesorería a Corto Plazo | B25: =SUM('BALANZA ACUMULADA'!K29) -> 0 | D25: =SUM('BALANZA ACUMULADA'!G29) -> 0 | E25: =SUM(B25-D25) -> 0 | F25: =-E25 -> 0 | G25: =E25 -> 0 | I25: Porción a Corto Plazo de la Deuda Pública Interna | J25: =SUM('BALANZA ACUMULADA'!L103) -> 0 | L25: =SUM('BALANZA ACUMULADA'!H103) -> 0 | M25: =SUM(J25-L25) -> 0 | N25: =SUM(M25) -> 0 | O25: =-M25 -> 0
A26: Préstamos Otorgados a Corto Plazo | B26: =SUM('BALANZA ACUMULADA'!K30) -> 0 | D26: =SUM('BALANZA ACUMULADA'!G30) -> 0 | E26: =SUM(B26-D26) -> 0 | F26: =-E26 -> 0 | G26: =E26 -> 0 | I26: Porción a Corto Plazo de Arrendamiento Financiero | J26: =SUM('BALANZA ACUMULADA'!L104) -> 0 | L26: =SUM('BALANZA ACUMULADA'!H104) -> 0 | M26: =SUM(J26-L26) -> 0 | N26: =SUM(M26) -> 0 | O26: =-M26 -> 0
A27: Otros Derechos a Recibir Efectivo o Equivalentes a Corto Plazo | B27: =SUM('BALANZA ACUMULADA'!K31) -> 0 | D27: =SUM('BALANZA ACUMULADA'!G31) -> 0 | E27: =SUM(B27-D27) -> 0 | F27: =-E27 -> 0 | G27: =E27 -> 0
A28: Derechos a Recibir Bienes o Servicios | B28: =SUM(B29:B33) -> 0 | D28: =SUM(D29:D33) -> 0 | E28: =SUM(E29:E33) -> 0 | F28: =SUM(F29:F33) -> 0 | G28: =SUM(G29:G33) -> 0 | I28: Pasivos Diferidos a Corto Plazo | J28: =SUM(J29:J30) -> 0 | L28: =SUM(L29:L30) -> 0 | M28: =SUM(M29:M30) -> 0 | N28: =SUM(N29:N30) -> 0 | O28: =SUM(O29:O30) -> 0
A29: Anticipo a Proveedores por Adquisición de Bienes y Prestación de Serv. a Corto Plazo | B29: =SUM('BALANZA ACUMULADA'!K32) -> 0 | D29: =SUM('BALANZA ACUMULADA'!G32) -> 0 | E29: =SUM(B29-D29) -> 0 | F29: =-E29 -> 0 | G29: =E29 -> 0 | I29: Ingresos Cobrados por Adelantado a Corto Plazo | J29: =SUM('BALANZA ACUMULADA'!L105) -> 0 | L29: =SUM('BALANZA ACUMULADA'!H105) -> 0 | M29: =SUM(J29-L29) -> 0 | N29: =SUM(M29) -> 0 | O29: =-M29 -> 0
A30: Anticipo a Proveedores por Adquisición de Bienes Inmuebles y Muebles a Corto Plazo | B30: =SUM('BALANZA ACUMULADA'!K33) -> 0 | D30: =SUM('BALANZA ACUMULADA'!G33) -> 0 | E30: =SUM(B30-D30) -> 0 | F30: =-E30 -> 0 | G30: =E30 -> 0 | I30: Otros Pasivos Diferidos a Corto Plazo | J30: =SUM('BALANZA ACUMULADA'!L107) -> 0 | L30: =SUM('BALANZA ACUMULADA'!H107) -> 0 | M30: =SUM(J30-L30) -> 0 | N30: =SUM(M30) -> 0 | O30: =-M30 -> 0
A31: Anticipo a Proveedores por Adquisición de Bienes Intangibles a Corto Plazo | B31: =SUM('BALANZA ACUMULADA'!K34) -> 0 | D31: =SUM('BALANZA ACUMULADA'!G34) -> 0 | E31: =SUM(B31-D31) -> 0 | F31: =-E31 -> 0 | G31: =E31 -> 0
A32: Anticipo a Contratistas por Obras Públicas a Corto Plazo | B32: =SUM('BALANZA ACUMULADA'!K35) -> 0 | D32: =SUM('BALANZA ACUMULADA'!G35) -> 0 | E32: =SUM(B32-D32) -> 0 | F32: =-E32 -> 0 | G32: =E32 -> 0 | I32: Fondos y Bienes de Terceros en Garantía y/o Administración a Corto Plazo | J32: =SUM(J33:J38) -> 0 | L32: =SUM(L33:L38) -> 0 | M32: =SUM(M33:M38) -> 0 | N32: =SUM(N33:N38) -> 0 | O32: =SUM(O33:O38) -> 0
A33: Otros Derechos a Recibir Bienes o Servicios a Corto Plazo | B33: =SUM('BALANZA ACUMULADA'!K36) -> 0 | D33: =SUM('BALANZA ACUMULADA'!G36) -> 0 | E33: =SUM(B33-D33) -> 0 | F33: =-E33 -> 0 | G33: =E33 -> 0 | I33: Fondos en Garantía a Corto Plazo | J33: =SUM('BALANZA ACUMULADA'!L108) -> 0 | L33: =SUM('BALANZA ACUMULADA'!H108) -> 0 | M33: =SUM(J33-L33) -> 0 | N33: =SUM(M33) -> 0 | O33: =-M33 -> 0
